BEGIN:VCALENDAR
VERSION:2.0
PRODID:-//The Farm - ECPv6.15.17//NONSGML v1.0//EN
CALSCALE:GREGORIAN
METHOD:PUBLISH
X-ORIGINAL-URL:https://thefarm1780.com
X-WR-CALDESC:Events for The Farm
REFRESH-INTERVAL;VALUE=DURATION:PT1H
X-Robots-Tag:noindex
X-PUBLISHED-TTL:PT1H
BEGIN:VTIMEZONE
TZID:America/New_York
BEGIN:DAYLIGHT
TZOFFSETFROM:-0500
TZOFFSETTO:-0400
TZNAME:EDT
DTSTART:20210314T070000
END:DAYLIGHT
BEGIN:STANDARD
TZOFFSETFROM:-0400
TZOFFSETTO:-0500
TZNAME:EST
DTSTART:20211107T060000
END:STANDARD
BEGIN:DAYLIGHT
TZOFFSETFROM:-0500
TZOFFSETTO:-0400
TZNAME:EDT
DTSTART:20220313T070000
END:DAYLIGHT
BEGIN:STANDARD
TZOFFSETFROM:-0400
TZOFFSETTO:-0500
TZNAME:EST
DTSTART:20221106T060000
END:STANDARD
BEGIN:DAYLIGHT
TZOFFSETFROM:-0500
TZOFFSETTO:-0400
TZNAME:EDT
DTSTART:20230312T070000
END:DAYLIGHT
BEGIN:STANDARD
TZOFFSETFROM:-0400
TZOFFSETTO:-0500
TZNAME:EST
DTSTART:20231105T060000
END:STANDARD
END:VTIMEZONE
BEGIN:VEVENT
DTSTART;TZID=America/New_York:20220422T180000
DTEND;TZID=America/New_York:20220422T210000
DTSTAMP:20260425T095933
CREATED:20220215T220903Z
LAST-MODIFIED:20220418T124030Z
UID:11222-1650650400-1650661200@thefarm1780.com
SUMMARY:Farm to Table Dinner
DESCRIPTION:When you arrive\, grab a welcome cocktail and some nosh underneath the Magnolia Pavilion and on the Farmhouse patio. We’ll then sit for a family-style meal served with wines that have been chosen to complement the dishes.  The farm-to-table dinner includes a four-course meal prepared by Chef Scott Hall. \nWelcome Cocktail: Rose Lemon Drop  \nCourse 1: Assorted Bread Plate\, Baby Market Green Salad and Spring Pea & Raddish Salad \nCourse 2: Artichoke & Lemon Fritto Misto \nCourse 3: Roasted Leg of Lamb\, Roasted Grouper\, Grilled Asparagus & Roasted Carrots\, and Root Vegetable Hash \nCourse 4: Strawberry Lemon Short Cakes \nWines chosen to complement the meal will be served with dinner \nMenu items are subject to change based on availability at the time of the event. Due to the style of this dinner\, we are not able to accommodate substitutions or dietary restrictions.  \nA Lexington native\, Chef Scott Hall cooked for a decade in New York City\, where he earned a spot in the kitchen at acclaimed restaurant Prune and went on to co-found a full-service catering company before returning to South Carolina in the late 2000s. Scott Hall Catering is a full-service catering firm known for its weddings and special event work.  He is the founder of the X Marks the Spot pop-up dinner series\, known for its outside-the-box creative themes and boundary-breaking\, performance-based dinner experiences. Scott brings a special skill level and creativity to the meals that he creates. He has appeared on the Cooking Channel\, Bravo\, The Travel Channel\, Food Network\, and in GQ. \nSeats are limited for this evening experience.  This is a 21+ only event. \nTickets are transferable\, but not refundable.
URL:https://thefarm1780.com/event/farm-to-table-dinner/
LOCATION:The FARM\, 1127 Corley Mill Rd.\, Lexington\, SC\, 29072
CATEGORIES:Community Events,Ticketed Events
ATTACH;FMTTYPE=image/png:https://thefarm1780.com/wp-content/uploads/2022/02/Farm-to-Table-Dinner_April-22.png
END:VEVENT
BEGIN:VEVENT
DTSTART;VALUE=DATE:20220424
DTEND;VALUE=DATE:20220425
DTSTAMP:20260425T095933
CREATED:20210526T182414Z
LAST-MODIFIED:20220309T115225Z
UID:9569-1650758400-1650844799@thefarm1780.com
SUMMARY:Pics with Chicks
DESCRIPTION:We’re adding to the flock at The FARM and this is your chance for the kiddos to enjoy interacting with the baby chicks while capturing these priceless moments.  Gentleman Farmer\, Brett Flashnick\, is also a professional photographer and visual storyteller with more than twenty-one years of experience working with some of the largest organizations in the world.  \nEach 30-minute session includes live interaction with baby chicks.  You will receive five digital photos within two weeks of your photo session.  Each session includes up to four children.  If you need a session with additional children\, please book two back-to-back sessions.  This policy is for the safety and health of the baby chicks.  \nShould you arrive late to your session\, you may receive fewer photos or forfeit your spot.  We cannot guarantee a session for late arrivals. \nRain date: May 1st (tickets are non-refundable.  So\, if you cannot make the rain date\, please do not purchase these packages)
URL:https://thefarm1780.com/event/pics-with-chicks/
LOCATION:The FARM\, 1127 Corley Mill Rd.\, Lexington\, SC\, 29072
CATEGORIES:Community Events,Ticketed Events
ATTACH;FMTTYPE=image/jpeg:https://thefarm1780.com/wp-content/uploads/2021/05/IMG_6593.jpg
END:VEVENT
BEGIN:VEVENT
DTSTART;TZID=America/New_York:20220430T100000
DTEND;TZID=America/New_York:20220430T140000
DTSTAMP:20260425T095933
CREATED:20220224T223126Z
LAST-MODIFIED:20220424T172222Z
UID:11284-1651312800-1651327200@thefarm1780.com
SUMMARY:First Harvest Farmers Market
DESCRIPTION:Stop by The FARM 1780 on Saturday\, April 30th between 10:00 am & 2:00 pm. The FARMstand will have fresh produce\, farm-fresh eggs\, and merchandise available.  We will also have activities for kids\, food trucks & adult-only drinks from the FARMcrafted Bar.  Other farmers and artisans from across our area will be on-site with their products as well.  A full list of vendors is below & we’ll update it throughout the month. \nLet the kids jump\, slide\, run and burn energy in the barnyard on The FARM!  \nFood: \nEnjoy coffee and brunch food from Rodgers Creations menu coming soon \nGrab some lunch and the best soul food in the south from retired Army husband & wife duo Soulful Soldiers Menu includes Ribs\, Pulled Pork sandwiches\, Grilled Leg quarters\, Platters\, Sides\, Chicken Nuggets & fries for the kids\, and more! \nBar: \nThe FARMcrafted bar will be stocked with the traditional favorites + some creations using farm-fresh ingredients! \nFarmers: \n\nYour favorite meat farmer – Abbie with Crazy Chic Heritage Farm will be on-site with her chicken\, pork & beefalo!\nThe Nut House & Country Market specializes in pecans\, gourmet pecan candy\, pecan pies\, and other treats.  Their pecans are grown in Ridge Spring and are a branch of Yon Family Farms.\n\nVendors \n\nAdams Apple Co. will be offering tastings & their popular apple butter & other products.  \nLauralee’s Kitchen makes homemade jams and jelly while providing a variety of pickled items.\nReSoil will be onsite with their compost boxes that you can use to start a container garden or use the compost directly in your existing garden.  \nEnjoy a hand-rolled cigar or pick up a unique gift from Stoney Creek Cigars\nMagnolia Mill House + Studio are neighbors to The FARM! A modern mill modeled with elements from the late-18th and early-19th century: a residence and business\, featuring select business brands and exclusive Airbnb access.\nThe Succulent Shed will have cut and propagated succulents available.\nMax Living Chiropractic will be on-site to do a health check and provide options for taking control of your health \nMEC: Meaningful Events For Modern Families: Balloon Installations\, Party Features\, Unique Themes & Decor!\n\nIf you are a vendor looking to join the market\, applications can be found here. \nThis is a free event\, but please note that no outside food or drinks are allowed.  No dogs or other pets are allowed anywhere on The FARM.  All children under 18 must be accompanied by an adult at all times.
URL:https://thefarm1780.com/event/first-harvest-farmers-market/
LOCATION:The FARM\, 1127 Corley Mill Rd.\, Lexington\, SC\, 29072
CATEGORIES:Community Events,Free Events
ATTACH;FMTTYPE=image/png:https://thefarm1780.com/wp-content/uploads/2022/02/Third-Thursdays-Option-2-9.png
END:VEVENT
END:VCALENDAR